BEGIN:VCALENDAR
VERSION:2.0
PRODID:-//ChamberMaster//Event Calendar 2.0//EN
METHOD:PUBLISH
X-PUBLISHED-TTL:P3D
REFRESH-INTERVAL:P3D
CALSCALE:GREGORIAN
BEGIN:VEVENT
DTSTART:20240724T160000Z
DTEND:20240724T180000Z
X-MICROSOFT-CDO-ALLDAYEVENT:FALSE
SUMMARY:Ribbon Cutting/Open House - The Vinings at Spanish Fort
DESCRIPTION:Ribbon Cutting/Open House - The Vinings at Spanish Fort
X-ALT-DESC;FMTTYPE=text/html:Ribbon Cutting/Open House - The Vinings at Spanish Fort
LOCATION:10407 US HWY 31 Spanish Fort\, AL 36527
UID:e.1304.32594
SEQUENCE:3
DTSTAMP:20260419T191312Z
URL:https://business.eschamber.com/events/details/ribbon-cutting-open-house-the-vinings-at-spanish-fort-32594
END:VEVENT

END:VCALENDAR
