BEGIN:VCALENDAR
VERSION:2.0
PRODID:-//ChamberMaster//Event Calendar 2.0//EN
METHOD:PUBLISH
X-PUBLISHED-TTL:P3D
REFRESH-INTERVAL:P3D
CALSCALE:GREGORIAN
BEGIN:VEVENT
DTSTART:20210516T003000Z
DTEND:20210516T023000Z
X-MICROSOFT-CDO-ALLDAYEVENT:FALSE
SUMMARY:Romeo and Juliet
DESCRIPTION:Experience the drama\, the romance\, and the magic of William Shakespeare's ROMEO and JULIET at the Playhouse in the Park. This is our first full live production in over a year and the Playhouse needs your support - please spread the word and buy your tickets.
X-ALT-DESC;FMTTYPE=text/html:Experience the drama\, the romance\, and the magic of William Shakespeare&#39\;s ROMEO and JULIET at the Playhouse in the Park. This is our first full live production in over a year and the Playhouse needs your support - please spread the word and buy your tickets.
LOCATION:Playhouse-In-the-Park\, 4851 Museum Dr.\, Mobile\, AL 36608
UID:e.1304.20674
SEQUENCE:3
DTSTAMP:20260423T175246Z
URL:https://business.eschamber.com/events/details/romeo-and-juliet-05-15-2021-20674
END:VEVENT

END:VCALENDAR
