BEGIN:VCALENDAR
VERSION:2.0
PRODID:-//ChamberMaster//Event Calendar 2.0//EN
METHOD:PUBLISH
X-PUBLISHED-TTL:P3D
REFRESH-INTERVAL:P3D
CALSCALE:GREGORIAN
BEGIN:VEVENT
DTSTART:20210727T230000Z
DTEND:20210728T000000Z
X-MICROSOFT-CDO-ALLDAYEVENT:FALSE
SUMMARY:Rotator Cuff Workshop - HealthActions Physical Therapy
DESCRIPTION:Rotator Cuff Workshop by HealthActions Physical Therapy Presented by Scott Park\, MSPT\, MTC\, Cert DN No medications No Injections No Surgery Join for an evening of education and Q&A 2101 US 98\, Daphne\, AL 36526 Call to reserve your spot. - 251-410-0620
X-ALT-DESC;FMTTYPE=text/html:Rotator Cuff Workshop by HealthActions Physical Therapy Presented by Scott Park\, MSPT\, MTC\, Cert DN No medications No Injections No Surgery Join for an evening of education and Q&amp\;A 2101 US 98\, Daphne\, AL 36526 Call to reserve your spot. - 251-410-0620
LOCATION:2101 US 98\, Daphne\, AL 36526
UID:e.1304.22298
SEQUENCE:3
DTSTAMP:20260420T114554Z
URL:https://business.eschamber.com/events/details/rotator-cuff-workshop-healthactions-physical-therapy-22298
END:VEVENT

END:VCALENDAR
