BEGIN:VCALENDAR
VERSION:2.0
PRODID:-//ChamberMaster//Event Calendar 2.0//EN
METHOD:PUBLISH
X-PUBLISHED-TTL:P3D
REFRESH-INTERVAL:P3D
CALSCALE:GREGORIAN
BEGIN:VEVENT
DTSTART;VALUE=DATE:20201021
DTEND;VALUE=DATE:20201022
TRANSP:TRANSPARENT
X-MICROSOFT-CDO-ALLDAYEVENT:TRUE
SUMMARY:Rubber Ducky Regatta
DESCRIPTION:Ronald McDonald House is sponsoring the 2020 Rubber Ducky Regatta which will be a Facebook Live virtual event this year! Adopt your ducks now at rubberduckyregatta.com.  Grand prize is $1\,000 Rouses gift card\, second place is a $750 Ace Hardware gift card and third place is a $400 Bebo's Car Wash/Gas Gift card. All proceeds will benefit Ronald McDonald House Charities of Mobile\, which houses families with seriously ill and injured children being treated at area hospitals and staying at Ronald McDonald House.
X-ALT-DESC;FMTTYPE=text/html:Ronald McDonald House is sponsoring the 2020 Rubber Ducky Regatta which will be a Facebook Live virtual event this year! Adopt your ducks now at rubberduckyregatta.com.&nbsp\; Grand prize is $1\,000 Rouses gift card\, second place is a $750 Ace Hardware gift card and third place is a $400 Bebo&#39\;s Car Wash/Gas Gift card.&nbsp\;<span style="font-size:12px\;"><span style="color: rgb(68\, 68\, 68)\; font-family: &quot\;Helvetica Neue&quot\;\, Helvetica\, Arial\, sans-serif\; background-color: rgb(255\, 255\, 255)\;">All proceeds will benefit Ronald McDonald House Charities of Mobile\, which houses families with seriously ill and injured children being treated at area hospitals and staying at Ronald McDonald House.</span></span>
LOCATION:Facebook Live virtual event
UID:e.1304.14312
SEQUENCE:3
DTSTAMP:20260424T054251Z
URL:https://business.eschamber.com/events/details/rubber-ducky-regatta-14312
END:VEVENT

END:VCALENDAR
