BEGIN:VCALENDAR
VERSION:2.0
PRODID:-//ChamberMaster//Event Calendar 2.0//EN
METHOD:PUBLISH
X-PUBLISHED-TTL:P3D
REFRESH-INTERVAL:P3D
CALSCALE:GREGORIAN
BEGIN:VEVENT
DTSTART:20230812T130000Z
DTEND:20230812T190000Z
X-MICROSOFT-CDO-ALLDAYEVENT:FALSE
SUMMARY:Rummage Sale
DESCRIPTION:Rummage sale which will include furniture\, home decor\, household items\, clothing and accessories\, books\, holiday decor\, outdoor items\, plants\, etc.
X-ALT-DESC;FMTTYPE=text/html:Rummage sale which will include furniture\, home decor\, household items\, clothing and accessories\, books\, holiday decor\, outdoor items\, plants\, etc.
LOCATION:St. Francis at the Point Anglican Church\, 17280 Scenic Highway 98\, Point Clear\, AL
UID:e.1304.27731
SEQUENCE:3
DTSTAMP:20260420T034449Z
URL:https://business.eschamber.com/events/details/rummage-sale-27731
END:VEVENT

END:VCALENDAR
