BEGIN:VCALENDAR
VERSION:2.0
PRODID:-//ChamberMaster//Event Calendar 2.0//EN
METHOD:PUBLISH
X-PUBLISHED-TTL:P3D
REFRESH-INTERVAL:P3D
CALSCALE:GREGORIAN
BEGIN:VEVENT
DTSTART:20210320T180000Z
DTEND:20210320T230000Z
X-MICROSOFT-CDO-ALLDAYEVENT:FALSE
SUMMARY:Saint Patrick's Day Benefit
DESCRIPTION:American Legion Post 222 will host a Saint Patrick's Day Benefit. There will be food and games.
X-ALT-DESC;FMTTYPE=text/html:American Legion Post 222 will host a Saint Patrick&#39\;s Day Benefit. There will be food and games.
LOCATION:5 Yacht Club Drive\, Daphne\, AL
UID:e.1304.20470
SEQUENCE:3
DTSTAMP:20260423T204405Z
URL:https://business.eschamber.com/events/details/saint-patrick-s-day-benefit-20470
END:VEVENT

END:VCALENDAR
