BEGIN:VCALENDAR
VERSION:2.0
PRODID:-//ChamberMaster//Event Calendar 2.0//EN
METHOD:PUBLISH
X-PUBLISHED-TTL:P3D
REFRESH-INTERVAL:P3D
CALSCALE:GREGORIAN
BEGIN:VEVENT
DTSTART:20201219T210000Z
DTEND:20201220T000000Z
X-MICROSOFT-CDO-ALLDAYEVENT:FALSE
SUMMARY:Santa Photos
DESCRIPTION:Pack your bags and grab your winter coats because we are headed to Christmas Island! ????\n\nThis year\, Santa will be a little closer to home as he sets up shop in Downtown OWA on our picturesque Island. Every Saturday and Sunday\, from Dec. 5-20\, Santa will be welcoming guests of all ages to their home away from home and allow for time to grab a photo with the jolly man himself. Christmas Island is open from 3-6pm every Saturday and Sunday from Dec. 5-20\, 2020. \n\nSanta's personal paparazzi will also be there to snap your picture for a small additional cost if you want! Plus\, be sure to look out for Santa's Elves who will be available to help ensure a socially distanced experience this holiday season.
X-ALT-DESC;FMTTYPE=text/html:<h2 style="text-align:center"><span style="color:rgb(149\, 0\, 0)">Pack your bags and grab your winter coats because we are headed to Christmas Island!&nbsp\;</span>????</h2>\n\n<p style="text-align:center"><strong><span style="color:rgb(234\, 178\, 30)">This year\, Santa will be a little closer to home as he sets up shop in Downtown OWA on our picturesque Island.</span></strong>&nbsp\;Every Saturday and Sunday\, from Dec. 5-20\, Santa will be welcoming guests of all ages to their home away from home and allow for time to grab a photo with the jolly man himself.&nbsp\;<span style="color:rgb(149\, 0\, 0)"><strong>Christmas Island is open from 3-6pm every Saturday and Sunday from Dec. 5-20\, 2020.</strong>&nbsp\;</span></p>\n\n<p style="text-align:center">Santa&rsquo\;s personal paparazzi will also be there to snap your picture for a small additional cost if you want! Plus\, be sure to look out for Santa&rsquo\;s Elves who will be available to help ensure a socially distanced experience this holiday season.</p>\n
LOCATION:
UID:e.1304.14926
SEQUENCE:3
DTSTAMP:20260424T014834Z
URL:https://business.eschamber.com/events/details/santa-photos-12-19-2020-14926
END:VEVENT

END:VCALENDAR
