BEGIN:VCALENDAR
VERSION:2.0
PRODID:-//ChamberMaster//Event Calendar 2.0//EN
METHOD:PUBLISH
X-PUBLISHED-TTL:P3D
REFRESH-INTERVAL:P3D
CALSCALE:GREGORIAN
BEGIN:VEVENT
DTSTART:20201212T200000Z
DTEND:20201212T210000Z
X-MICROSOFT-CDO-ALLDAYEVENT:FALSE
SUMMARY:School of Maccrossan Irish Dance Annual Fundraiser
DESCRIPTION:Join us December 12\, 2020 at 2:00pm around the Christmas Tree during the "Support Local Christmas Market" to enjoy the Annual Maccrossan School of Irish Dance Fundraiser presented by Barnes & Noble of Spanish Fort. When you mention the Maccrosan School of Irish Dance when you check out at Barnes & Noble of Spanish Fort anytime on December 12th\, the school will receive a percentage of those sells.
X-ALT-DESC;FMTTYPE=text/html:Join us December 12\, 2020 at 2:00pm around the Christmas Tree during the &quot\;Support Local Christmas Market&quot\; to enjoy the Annual Maccrossan School of Irish Dance Fundraiser presented by Barnes &amp\; Noble of Spanish Fort. When you mention the Maccrosan School of Irish Dance when you check out at Barnes &amp\; Noble of Spanish Fort anytime on December 12th\, the school will receive a percentage of those sells.
LOCATION:ESC Pavilion around the Christmas Tree
UID:e.1304.14932
SEQUENCE:3
DTSTAMP:20260424T032150Z
URL:https://business.eschamber.com/events/details/school-of-maccrossan-irish-dance-annual-fundraiser-14932
END:VEVENT

END:VCALENDAR
