BEGIN:VCALENDAR
VERSION:2.0
PRODID:-//ChamberMaster//Event Calendar 2.0//EN
METHOD:PUBLISH
X-PUBLISHED-TTL:P3D
REFRESH-INTERVAL:P3D
CALSCALE:GREGORIAN
BEGIN:VEVENT
DTSTART:20191001T230000Z
DTEND:20191002T020000Z
X-MICROSOFT-CDO-ALLDAYEVENT:FALSE
SUMMARY:Screening of "Dispatches from the Gulf 3\, Ten Years After the Deepwater Horizon Oil Spill"
DESCRIPTION:The Mobile Bay Sierra Club invites you to attend the Screening of "Dispatches from the Gulf 3\, Ten Years After the Deepwater Horizon Oil Spill"\, narrated by Matt Damon. This is the 3rd film in the award-winning series\, "Dispatches From the Gulf". Refreshments will be served at 6:00 p.m. and the program will being at 6:30 p.m.
X-ALT-DESC;FMTTYPE=text/html:The Mobile Bay Sierra Club invites you to attend the Screening of &quot\;Dispatches from the Gulf 3\, Ten Years After the Deepwater Horizon Oil Spill&quot\;\, narrated by Matt Damon. This is the 3rd film in the award-winning series\, &quot\;Dispatches From the Gulf&quot\;. Refreshments will be served at 6:00 p.m. and the program will being at 6:30 p.m.
LOCATION:5 Rivers\, Tensaw Theater 30945 Five Rivers Boulevard Spanish Fort\, AL (entrance is across from Meaher State Park on the Mobile Bay Causeway). Follow the Sierra Club signs.
UID:e.1304.12974
SEQUENCE:3
DTSTAMP:20260419T155603Z
URL:https://business.eschamber.com/events/details/screening-of-dispatches-from-the-gulf-3-ten-years-after-the-deepwater-horizon-oil-spill-12974
END:VEVENT

END:VCALENDAR
