BEGIN:VCALENDAR
VERSION:2.0
PRODID:-//ChamberMaster//Event Calendar 2.0//EN
METHOD:PUBLISH
X-PUBLISHED-TTL:P3D
REFRESH-INTERVAL:P3D
CALSCALE:GREGORIAN
BEGIN:VEVENT
DTSTART:20191101T160000Z
DTEND:20191101T230000Z
X-MICROSOFT-CDO-ALLDAYEVENT:FALSE
SUMMARY:SEEDS Classic Golf Tournament
DESCRIPTION:SEEDS Classic Golf Tournament will be held at the Timbercreek Golf Club. Registration and lunch is at 11:00 a.m. and shotgun start is at 12:00 p.m. Proceeds support SEEDS and SEEDS Classroom grants. Sponsorships are available.
X-ALT-DESC;FMTTYPE=text/html:SEEDS Classic Golf Tournament will be held at the Timbercreek Golf Club. Registration and lunch is at 11:00 a.m. and shotgun start is at 12:00 p.m. Proceeds support SEEDS and SEEDS Classroom grants. Sponsorships are available.
LOCATION:Timbercreek Golf Club 9650 Timbercreek Boulevard Spanish Fort\, AL
UID:e.1304.13010
SEQUENCE:3
DTSTAMP:20260419T142849Z
URL:https://business.eschamber.com/events/details/seeds-classic-golf-tournament-11-01-2019-13010
END:VEVENT

END:VCALENDAR
