BEGIN:VCALENDAR
VERSION:2.0
PRODID:-//ChamberMaster//Event Calendar 2.0//EN
METHOD:PUBLISH
X-PUBLISHED-TTL:P3D
REFRESH-INTERVAL:P3D
CALSCALE:GREGORIAN
BEGIN:VEVENT
DTSTART:20191102T130000Z
DTEND:20191102T170000Z
X-MICROSOFT-CDO-ALLDAYEVENT:FALSE
SUMMARY:Senior Bowl Charity Run
DESCRIPTION:Benefits: All runners will help the Senior Bowl achieve its goal of raising funds for youth throughout our region. Races: The Senior Bowl Charity Run\, presented by Blue Cross Blue Shield of Alabama\, includes 10K and 5K races and a 1-Mile Fun Run. The certified 10K and 5K courses are flat and fast with few turns. The Fun Run is approximately 1 Mile. Post Race Celebration: Post race activities will include food\, beverages\, awards\, and music. Participants should wear their run numbers at all times - they will serve as the tickets to the post race celebration. Runner Perks: Each registered participant will receive a race shirt and entry in to the post race celebration.
X-ALT-DESC;FMTTYPE=text/html:Benefits: All runners will help the Senior Bowl achieve its goal of raising funds for youth throughout our region. Races: The Senior Bowl Charity Run\, presented by Blue Cross Blue Shield of Alabama\, includes 10K and 5K races and a 1-Mile Fun Run. The certified 10K and 5K courses are flat and fast with few turns. The Fun Run is approximately 1 Mile. Post Race Celebration: Post race activities will include food\, beverages\, awards\, and music. Participants should wear their run numbers at all times - they will serve as the tickets to the post race celebration. Runner Perks: Each registered participant will receive a race shirt and entry in to the post race celebration.
LOCATION:Mardi Gras Park 163 Government St. Mobile\, AL 36602
UID:e.1304.13007
SEQUENCE:3
DTSTAMP:20260419T144024Z
URL:https://business.eschamber.com/events/details/senior-bowl-charity-run-13007
END:VEVENT

END:VCALENDAR
