BEGIN:VCALENDAR
VERSION:2.0
PRODID:-//ChamberMaster//Event Calendar 2.0//EN
METHOD:PUBLISH
X-PUBLISHED-TTL:P3D
REFRESH-INTERVAL:P3D
CALSCALE:GREGORIAN
BEGIN:VEVENT
DTSTART:20210717T000000Z
DTEND:20210717T020000Z
X-MICROSOFT-CDO-ALLDAYEVENT:FALSE
SUMMARY:Sherlock Holmes
DESCRIPTION:Bay Cities Improv Company presents Sherlock Holmes in The Adventure of the Speckled Band\, a Recreated Radio Drama set in 1939 and sponsored by Old Tyme Feed & Seed. A portion of the proceeds benefits the Eastern Shore Art Center.
X-ALT-DESC;FMTTYPE=text/html:Bay Cities Improv Company presents Sherlock Holmes in The Adventure of the Speckled Band\, a Recreated Radio Drama set in 1939 and sponsored by Old Tyme Feed &amp\; Seed. A portion of the proceeds benefits the Eastern Shore Art Center.
LOCATION:Eastern Shore Art Center\, 401 Oak Street\, Fairhope\, AL
UID:e.1304.22058
SEQUENCE:3
DTSTAMP:20260420T113735Z
URL:https://business.eschamber.com/events/details/sherlock-holmes-22058
END:VEVENT

END:VCALENDAR
