BEGIN:VCALENDAR
VERSION:2.0
PRODID:-//ChamberMaster//Event Calendar 2.0//EN
METHOD:PUBLISH
X-PUBLISHED-TTL:P3D
REFRESH-INTERVAL:P3D
CALSCALE:GREGORIAN
BEGIN:VEVENT
DTSTART:20230324T210000Z
DTEND:20230325T010000Z
X-MICROSOFT-CDO-ALLDAYEVENT:FALSE
SUMMARY:Sip & Shop Permanent Jewelry Event
DESCRIPTION:Come Sip & Shop with us! Ever want to know more about permanent jewelry? Here's your chance! Come see what everyone is talking about! Sip and shop around our store and enjoy yourself for the evening!
X-ALT-DESC;FMTTYPE=text/html:Come Sip &amp\; Shop with us! Ever want to know more about permanent jewelry? Here&rsquo\;s your chance! Come see what everyone is talking about! Sip and shop around our store and enjoy yourself for the evening!&nbsp\;
LOCATION:Hammer and Stain Eastern Shore 25325 US Hwy 98 Suite G Daphne
UID:e.1304.27380
SEQUENCE:3
DTSTAMP:20260421T201355Z
URL:https://business.eschamber.com/events/details/sip-shop-permanent-jewelry-event-27380
END:VEVENT

END:VCALENDAR
