BEGIN:VCALENDAR
VERSION:2.0
PRODID:-//ChamberMaster//Event Calendar 2.0//EN
METHOD:PUBLISH
X-PUBLISHED-TTL:P3D
REFRESH-INTERVAL:P3D
CALSCALE:GREGORIAN
BEGIN:VEVENT
DTSTART:20230815T130000Z
DTEND:20230815T160000Z
X-MICROSOFT-CDO-ALLDAYEVENT:FALSE
SUMMARY:Small Business Owners Seminar
DESCRIPTION:A Free educational Risk Transfer And Wealth Creation banking and Insurance seminar for Small to Medium business owners Breakfast will be provided Limited seating RSVP required
X-ALT-DESC;FMTTYPE=text/html:A Free educational Risk Transfer And Wealth Creation banking and Insurance seminar for Small to Medium business owners Breakfast will be provided Limited seating RSVP required
LOCATION:Marriott Courtyard Eastern Shore 1300 Cypress Way Spanish Fort Daphne AL 36527
UID:e.1304.27752
SEQUENCE:3
DTSTAMP:20260420T015957Z
URL:https://business.eschamber.com/events/details/small-business-owners-seminar-27752
END:VEVENT

END:VCALENDAR
