BEGIN:VCALENDAR
VERSION:2.0
PRODID:-//ChamberMaster//Event Calendar 2.0//EN
METHOD:PUBLISH
X-PUBLISHED-TTL:P3D
REFRESH-INTERVAL:P3D
CALSCALE:GREGORIAN
BEGIN:VEVENT
DTSTART:20210526T150000Z
DTEND:20210526T170000Z
X-MICROSOFT-CDO-ALLDAYEVENT:FALSE
SUMMARY:Small Business Survival Series - Part 2
DESCRIPTION:Join us for the conclusion of our Small Business Survival Series\, presented in conjunction with Wells Fargo Foundation. There are two important segments:\n\nI. Building a Marketing Plan for Post-COVID Success\; and II. Where's The Money: Financing Your Small Business\n\nI. Building a Marketing Plan for Post-COVID Success - Presented by guest speaker Pamela Starr. As we look ahead to the post COVID-world\, small businesses need to take a fresh look at their marketing strategy. Consumer behavior has changed\, and so should your marketing plan. This presentation takes you through a series of activities designed to help you:   Learn which of your marketing efforts were the most impactful in the past.   Understand how your customers want to interact with you in the present.   Prioritize what marketing activities will drive the best results in the future. You will also learn how to create a simple marketing calendar for success in 2021 and beyond.\n\nII. Where's The Money: Financing Your Small Business Exploring all of the financing options available to grow your business.
X-ALT-DESC;FMTTYPE=text/html:Join us for the conclusion of our Small Business Survival Series\, presented in conjunction with Wells Fargo Foundation. There are two important segments:<br />\nI. Building a Marketing Plan for Post-COVID Success\; and&nbsp\;II. Where&#39\;s The Money: Financing Your Small Business<br />\nI. Building a Marketing Plan for Post-COVID Success - Presented by guest speaker Pamela Starr. As we look ahead to the post COVID-world\, small businesses need to take a fresh look at their marketing strategy. Consumer behavior has changed\, and so should your marketing plan. This presentation takes you through a series of activities designed to help you: &bull\; Learn which of your marketing efforts were the most impactful in the past. &bull\; Understand how your customers want to interact with you in the present. &bull\; Prioritize what marketing activities will drive the best results in the future. You will also learn how to create a simple marketing calendar for success in 2021 and beyond.<br />\nII. Where&#39\;s The Money: Financing Your Small Business Exploring all of the financing options available to grow your business.
LOCATION:Webinar
UID:e.1304.20758
SEQUENCE:3
DTSTAMP:20260423T175205Z
URL:https://business.eschamber.com/events/details/small-business-survival-series-part-2-20758
END:VEVENT

END:VCALENDAR
