BEGIN:VCALENDAR
VERSION:2.0
PRODID:-//ChamberMaster//Event Calendar 2.0//EN
METHOD:PUBLISH
X-PUBLISHED-TTL:P3D
REFRESH-INTERVAL:P3D
CALSCALE:GREGORIAN
BEGIN:VEVENT
DTSTART:20210707T133000Z
DTEND:20210707T150000Z
X-MICROSOFT-CDO-ALLDAYEVENT:FALSE
SUMMARY:Smart Business Academy: Writing for Social media
DESCRIPTION:Smart Business Academy: Writing for Social Media\n\nSpeaker: Joanna Almond \n\n\n\nBring your laptops and notebooks\, because we want you to leave with useful content you can post on your social media feed today. Joanna Almond will be teaching how to get the biggest bang for your buck with your posts and where to start.
X-ALT-DESC;FMTTYPE=text/html:Smart Business Academy: Writing for Social Media<br />\nSpeaker: Joanna Almond&nbsp\;<br />\n<br />\nBring your laptops and notebooks\, because we want you to leave with useful content you can post on your social media feed today. Joanna Almond will be teaching how to get the biggest bang for your buck with your posts and where to start.<br />\n&nbsp\;
LOCATION:Bryant Bank Community Room 1801 US-98\, Daphne\, AL
UID:e.1304.22041
SEQUENCE:3
DTSTAMP:20260420T114712Z
URL:https://business.eschamber.com/events/details/smart-business-academy-writing-for-social-media-22041
END:VEVENT

END:VCALENDAR
