BEGIN:VCALENDAR
VERSION:2.0
PRODID:-//ChamberMaster//Event Calendar 2.0//EN
METHOD:PUBLISH
X-PUBLISHED-TTL:P3D
REFRESH-INTERVAL:P3D
CALSCALE:GREGORIAN
BEGIN:VEVENT
DTSTART:20211224T213000Z
DTEND:20211224T230000Z
X-MICROSOFT-CDO-ALLDAYEVENT:FALSE
SUMMARY:Snowball Fight with Santa
DESCRIPTION:Bring your kids to have a snowball fight (poly-blend snowballs) with Santa and Mrs. Claus on Black Friday and Christmas Eve. Who knows\, some other special characters may show up too! Your kids can also enjoy hot chocolate ($1) with Santa as he reads the beloved Christmas story\, "The Night Before Christmas". We will wrap up the night with Reindeer Games before Santa heads off to deliver toys to all the good girls and boys.
X-ALT-DESC;FMTTYPE=text/html:Bring your kids to have a snowball fight (poly-blend snowballs) with Santa and Mrs. Claus on Black Friday and Christmas Eve. Who knows\, some other special characters may show up too! Your kids can also enjoy hot chocolate ($1) with Santa as he reads the beloved Christmas story\, &quot\;The Night Before Christmas&quot\;. We will wrap up the night with Reindeer Games before Santa heads off to deliver toys to all the good girls and boys.
LOCATION:30500 Hwy 181\, Spanish Fort\, AL Eastern Shore Centre Courtyard around the Christmas Tree.
UID:e.1304.22889
SEQUENCE:3
DTSTAMP:20260419T115318Z
URL:https://business.eschamber.com/events/details/snowball-fight-with-santa-22889
END:VEVENT

END:VCALENDAR
