BEGIN:VCALENDAR
VERSION:2.0
PRODID:-//ChamberMaster//Event Calendar 2.0//EN
METHOD:PUBLISH
X-PUBLISHED-TTL:P3D
REFRESH-INTERVAL:P3D
CALSCALE:GREGORIAN
BEGIN:VEVENT
DTSTART:20211205T210000Z
DTEND:20211205T223000Z
X-MICROSOFT-CDO-ALLDAYEVENT:FALSE
SUMMARY:Sounds of Christmas
DESCRIPTION:Experience the joy and peace of Christ's birth through a festival of Christmas music! This concert will feature Christmas music favorites from all over the world including A Christmas Festival by Leroy Anderson\, White Christmas by Berlin\, Maria Wiegenlied by Reger\, Variations on Noel Nouvelet by Samuel-Rousseau\, as well as selections from Bach's Christmas Oratorio\, Handel's Messiah\, Tchaikovsky's Nutcracker and others. There will also by a sing-along of traditional Advent and Christmas carols.
X-ALT-DESC;FMTTYPE=text/html:Experience the joy and peace of Christ&#39\;s birth through a festival of Christmas music! This concert will feature Christmas music favorites from all over the world including A Christmas Festival by Leroy Anderson\, White Christmas by Berlin\, Maria Wiegenlied by Reger\, Variations on Noel Nouvelet by Samuel-Rousseau\, as well as selections from Bach&#39\;s Christmas Oratorio\, Handel&#39\;s Messiah\, Tchaikovsky&#39\;s Nutcracker and others. There will also by a sing-along of traditional Advent and Christmas carols.
LOCATION:St. Francis at the Point 17280 Scenic Highway 98 Fairhope\, Alabama 36532
UID:e.1304.22871
SEQUENCE:3
DTSTAMP:20260419T115318Z
URL:https://business.eschamber.com/events/details/sounds-of-christmas-22871
END:VEVENT

END:VCALENDAR
