BEGIN:VCALENDAR
VERSION:2.0
PRODID:-//ChamberMaster//Event Calendar 2.0//EN
METHOD:PUBLISH
X-PUBLISHED-TTL:P3D
REFRESH-INTERVAL:P3D
CALSCALE:GREGORIAN
BEGIN:VEVENT
DTSTART:20210113T163000Z
DTEND:20210113T173000Z
X-MICROSOFT-CDO-ALLDAYEVENT:FALSE
SUMMARY:Southern Winter Gardening at Bellingrath Gardens and Home
DESCRIPTION:Winter Wednesdays at Bellingrath: Southern Winter Gardening with Todd Lasseigne\, Executive Director of Bellingrath Gardens and Home. Learn about plants that peak in the winter months\, exhibiting showy flowers or evergreen foliage\, or even interesting twigs and branching structure. The event is the first in the series of Winter Wednesdays at Bellingrath in January and February. Visit bellingrath.org to view the full schedule\; call 251-459-8868 or email astrickland@bellingrath.org to register.
X-ALT-DESC;FMTTYPE=text/html:Winter Wednesdays at Bellingrath: Southern Winter Gardening with Todd Lasseigne\, Executive Director of Bellingrath Gardens and Home. Learn about plants that peak in the winter months\, exhibiting showy flowers or evergreen foliage\, or even interesting twigs and branching structure. The event is the first in the series of Winter Wednesdays at Bellingrath in January and February. Visit bellingrath.org to view the full schedule\; call 251-459-8868 or email astrickland@bellingrath.org to register.
LOCATION:Bellingrath Gardens and Home\, 12401 Bellingrath Gardens Road\, Theodore\, AL 36582
UID:e.1304.16997
SEQUENCE:3
DTSTAMP:20260424T001745Z
URL:https://business.eschamber.com/events/details/southern-winter-gardening-at-bellingrath-gardens-and-home-16997
END:VEVENT

END:VCALENDAR
