BEGIN:VCALENDAR
VERSION:2.0
PRODID:-//ChamberMaster//Event Calendar 2.0//EN
METHOD:PUBLISH
X-PUBLISHED-TTL:P3D
REFRESH-INTERVAL:P3D
CALSCALE:GREGORIAN
BEGIN:VEVENT
DTSTART:20191013T220000Z
DTEND:20191014T010000Z
X-MICROSOFT-CDO-ALLDAYEVENT:FALSE
SUMMARY:Spanish Fort Fall Concert
DESCRIPTION:The City of Spanish Fort will host a Fall Concert which will include an Art Guild Show at 5:00 p.m. and the Baldwin Pops Concert at 6:00 p.m.
X-ALT-DESC;FMTTYPE=text/html:The City of Spanish Fort will host a Fall Concert which will include an Art Guild Show at 5:00 p.m. and the Baldwin Pops Concert at 6:00 p.m.
LOCATION:Spanish Fort Community Center 7361 Spanish Fort Boulevard Spanish Fort\, AL
UID:e.1304.13008
SEQUENCE:3
DTSTAMP:20260419T172625Z
URL:https://business.eschamber.com/events/details/spanish-fort-fall-concert-10-13-2019-13008
END:VEVENT

END:VCALENDAR
