BEGIN:VCALENDAR
VERSION:2.0
PRODID:-//ChamberMaster//Event Calendar 2.0//EN
METHOD:PUBLISH
X-PUBLISHED-TTL:P3D
REFRESH-INTERVAL:P3D
CALSCALE:GREGORIAN
BEGIN:VEVENT
DTSTART:20210910T140000Z
DTEND:20210910T150000Z
X-MICROSOFT-CDO-ALLDAYEVENT:FALSE
SUMMARY:Special 9/11 Ceremony
DESCRIPTION:Please join us in front of the Fairhope Police Department as we remember those who served and those who were lost 20 years ago on September 11th. Honor all essential workers who continue to serve our community through the pandemic. A special monument will be dedicated in appreciation of their spirit of service and commitment to others. Pay tribute to retired Fairhope Police Chief Joseph H. Petties with the dedication of the justice center in his name. This event will be outdoors with attendees spaced appropriately.
X-ALT-DESC;FMTTYPE=text/html:Please join us in front of the Fairhope Police Department as we remember those who served and those who were lost 20 years ago on September 11th. Honor all essential workers who continue to serve our community through the pandemic. A special monument will be dedicated in appreciation of their spirit of service and commitment to others. Pay tribute to retired Fairhope Police Chief Joseph H. Petties with the dedication of the justice center in his name. This event will be outdoors with attendees spaced appropriately.
LOCATION:In front of Fairhope Police Department\, 107 N. Section Street\, Fairhope\, AL
UID:e.1304.22464
SEQUENCE:3
DTSTAMP:20260420T122802Z
URL:https://business.eschamber.com/events/details/special-9-11-ceremony-22464
END:VEVENT

END:VCALENDAR
