BEGIN:VCALENDAR
VERSION:2.0
PRODID:-//ChamberMaster//Event Calendar 2.0//EN
METHOD:PUBLISH
X-PUBLISHED-TTL:P3D
REFRESH-INTERVAL:P3D
CALSCALE:GREGORIAN
BEGIN:VEVENT
DTSTART:20201030T230000Z
DTEND:20201031T020000Z
X-MICROSOFT-CDO-ALLDAYEVENT:FALSE
SUMMARY:Spookatular Halloween at ESC
DESCRIPTION:On October 30th\, from 6:00pm   9:00 pm\, Halloween festivities will begin at the Eastern Shore Centre. Not only will Eastern Shore Centre Merchants be handing out candy to the little ghosts and goblins of the Gulf Coast\, there will be fun and activities happening throughout ESC\, complete with a pumpkin patch! This year's Costume Contest is not just for kids\; it's for ADULTS TOO! There will be prizes awarded for both age groups - Most Creative and Best All Around costumes. We will be doing our absolute best to ensure we follow social distancing guidelines\, and we ask that everyone who attends wears a mask.
X-ALT-DESC;FMTTYPE=text/html:On October 30th\, from 6:00pm &ndash\; 9:00 pm\, Halloween festivities will begin at the Eastern Shore Centre. Not only will Eastern Shore Centre Merchants be handing out candy to the little ghosts and goblins of the Gulf Coast\, there will be fun and activities happening throughout ESC\, complete with a pumpkin patch! This year&#39\;s Costume Contest is not just for kids\; it&#39\;s for ADULTS TOO! There will be prizes awarded for both age groups - Most Creative and Best All Around costumes. We will be doing our absolute best to ensure we follow social distancing guidelines\, and we ask that everyone who attends wears a mask.
LOCATION:Eastern Shore Centre\, Spanish Fort\, AL
UID:e.1304.14836
SEQUENCE:3
DTSTAMP:20260424T043609Z
URL:https://business.eschamber.com/events/details/spookatular-halloween-at-esc-14836
END:VEVENT

END:VCALENDAR
