BEGIN:VCALENDAR
VERSION:2.0
PRODID:-//ChamberMaster//Event Calendar 2.0//EN
METHOD:PUBLISH
X-PUBLISHED-TTL:P3D
REFRESH-INTERVAL:P3D
CALSCALE:GREGORIAN
BEGIN:VEVENT
DTSTART:20201031T150000Z
DTEND:20201031T180000Z
X-MICROSOFT-CDO-ALLDAYEVENT:FALSE
SUMMARY:Spooky Spokes Bicycle Parade
DESCRIPTION:Bring your bicycle\, wear your costume\, and be part of the finest Halloween bicycle parade around! No bicycle? No problem!! Walkers (especially zombies) and leashed pets can parade\, too. Some games and other simple outdoor activities will also be available. All should be able to have a fun time while keeping a social distance from others. Bicycle Parade at 10:30am. Parade route will be open until 1pm. Keep riding for fun. Walking Parade is at 11:00am
X-ALT-DESC;FMTTYPE=text/html:Bring your bicycle\, wear your costume\, and be part of the finest Halloween bicycle parade around! No bicycle? No problem!! Walkers (especially zombies) and leashed pets can parade\, too. Some games and other simple outdoor activities will also be available. All should be able to have a fun time while keeping a social distance from others. Bicycle Parade at 10:30am. Parade route will be open until 1pm. Keep riding for fun. Walking Parade is at 11:00am
LOCATION:Delta Hall Parking Lot 5 Rivers - Alabama's Delta Resource Center 30945 Five Rivers Blvd. Spanish Fort\, AL 36527
UID:e.1304.14880
SEQUENCE:3
DTSTAMP:20260424T054251Z
URL:https://business.eschamber.com/events/details/spooky-spokes-bicycle-parade-14880
END:VEVENT

END:VCALENDAR
