BEGIN:VCALENDAR
VERSION:2.0
PRODID:-//ChamberMaster//Event Calendar 2.0//EN
METHOD:PUBLISH
X-PUBLISHED-TTL:P3D
REFRESH-INTERVAL:P3D
CALSCALE:GREGORIAN
BEGIN:VEVENT
DTSTART:20220118T003000Z
DTEND:20220118T030000Z
X-MICROSOFT-CDO-ALLDAYEVENT:FALSE
SUMMARY:Square Dancing Lessons
DESCRIPTION:Learn to Square Dance! Fairhope Christian Church will be hosting Square Dancing lessons beginning Monday\, January 17th at 6:30pm. Fairhope Christian Church is located at 349 Fairwood Blvd in Fairhope (across from the old armory). For more information contact Lisa White 251-404-1700 or Patty Ping 850-206-5084.
X-ALT-DESC;FMTTYPE=text/html:Learn to Square Dance! Fairhope Christian Church will be hosting Square Dancing lessons beginning Monday\, January 17th at 6:30pm. Fairhope Christian Church is located at 349 Fairwood Blvd in Fairhope (across from the old armory). For more information contact Lisa White 251-404-1700 or Patty Ping 850-206-5084.
LOCATION:
UID:e.1304.22935
SEQUENCE:3
DTSTAMP:20260421T113125Z
URL:https://business.eschamber.com/events/details/square-dancing-lessons-22935
END:VEVENT

END:VCALENDAR
