BEGIN:VCALENDAR
VERSION:2.0
PRODID:-//ChamberMaster//Event Calendar 2.0//EN
METHOD:PUBLISH
X-PUBLISHED-TTL:P3D
REFRESH-INTERVAL:P3D
CALSCALE:GREGORIAN
BEGIN:VEVENT
DTSTART:20210424T150000Z
DTEND:20210424T200000Z
X-MICROSOFT-CDO-ALLDAYEVENT:FALSE
SUMMARY:St. Benedict's 48th Annual German Festival
DESCRIPTION:Join St. Benedict Catholic School on Saturday\, April 24th\, from 10am to 3pm for their 48th Annual German Festival! The event will look a little different this year to comply with social distancing guidelines\, but there will still be the infamous homemade German food including sausages\, potato salad\, pastries\, strudels\, kiffels\, and more Raffle tickets will also be available for $100 each with a chance to win $7\,000\, $2\,000\, and $1\,000 in cash prizes the day of the event.
X-ALT-DESC;FMTTYPE=text/html:Join St. Benedict Catholic School on Saturday\, April 24th\, from 10am to 3pm for their 48th Annual German Festival! The event will look a little different this year to comply with social distancing guidelines\, but there will still be the infamous homemade German food including sausages\, potato salad\, pastries\, strudels\, kiffels\, and more Raffle tickets will also be available for $100 each with a chance to win $7\,000\, $2\,000\, and $1\,000 in cash prizes the day of the event.
LOCATION:St. Bartholomew Parish Hall (across the street from SBCS) 12795 Illinois St\, Elberta\, AL 36530
UID:e.1304.20663
SEQUENCE:3
DTSTAMP:20260423T205454Z
URL:https://business.eschamber.com/events/details/st-benedict-s-48th-annual-german-festival-20663
END:VEVENT

END:VCALENDAR
