BEGIN:VCALENDAR
VERSION:2.0
PRODID:-//ChamberMaster//Event Calendar 2.0//EN
METHOD:PUBLISH
X-PUBLISHED-TTL:P3D
REFRESH-INTERVAL:P3D
CALSCALE:GREGORIAN
BEGIN:VEVENT
DTSTART:20191123T140000Z
DTEND:20191123T200000Z
X-MICROSOFT-CDO-ALLDAYEVENT:FALSE
SUMMARY:St Francis Fall Festival
DESCRIPTION:Christmas Decorations Bake Sale Silent Auction Crafts Rummage Sale Lunch
X-ALT-DESC;FMTTYPE=text/html:Christmas Decorations Bake Sale Silent Auction Crafts Rummage Sale Lunch
LOCATION:St. Francis at the Point 17280 Scenic Hwy 98 Fairhope\, AL 36532
UID:e.1304.12896
SEQUENCE:3
DTSTAMP:20260419T142816Z
URL:https://business.eschamber.com/events/details/st-francis-fall-festival-11-23-2019-12896
END:VEVENT

END:VCALENDAR
