BEGIN:VCALENDAR
VERSION:2.0
PRODID:-//ChamberMaster//Event Calendar 2.0//EN
METHOD:PUBLISH
X-PUBLISHED-TTL:P3D
REFRESH-INTERVAL:P3D
CALSCALE:GREGORIAN
BEGIN:VEVENT
DTSTART:20211204T150000Z
DTEND:20211204T210000Z
X-MICROSOFT-CDO-ALLDAYEVENT:FALSE
SUMMARY:St. Lawrence 16th Annual Christmas Bazaar
DESCRIPTION:St. Lawrence 16th Annual Christmas Bazaar will also be featuring a Virtual Auction with Online Bidding\; Bidding hours are December 4th at 9:00 am until December 5th at 2:30 pm. Visit stlawrencechristmasbazaar.com.   \n\n\n\nWhat should you expec at the Christmas bazaar:  Silent auction featuring over 200 items\, various gift baskets\, over 40 vendor booths\, Santa's workshop\, frozen homemade casseroles\, bake sale\, jams & jellies\, hot cocoa\, Christmas cafe\, seafood and chicken and sausage gumbo\, and pictures with Santa!
X-ALT-DESC;FMTTYPE=text/html:St. Lawrence 16th Annual Christmas Bazaar will also be featuring a Virtual Auction with Online Bidding\; Bidding hours are December 4th at 9:00 am until December 5th at 2:30 pm. Visit stlawrencechristmasbazaar.com.&nbsp\; &nbsp\;<br />\n<br />\nWhat should you expec at the Christmas bazaar:&nbsp\; Silent auction featuring over 200 items\, various gift baskets\, over 40 vendor booths\, Santa&#39\;s workshop\, frozen homemade casseroles\, bake sale\, jams &amp\; jellies\, hot cocoa\, Christmas cafe\, seafood and chicken and sausage gumbo\, and pictures with Santa!&nbsp\;&nbsp\;
LOCATION:370 S. Section Street\, Fairhope\, AL
UID:e.1304.22873
SEQUENCE:3
DTSTAMP:20260421T105006Z
URL:https://business.eschamber.com/events/details/st-lawrence-16th-annual-christmas-bazaar-22873
END:VEVENT

END:VCALENDAR
