BEGIN:VCALENDAR
VERSION:2.0
PRODID:-//ChamberMaster//Event Calendar 2.0//EN
METHOD:PUBLISH
X-PUBLISHED-TTL:P3D
REFRESH-INTERVAL:P3D
CALSCALE:GREGORIAN
BEGIN:VEVENT
DTSTART:20210317T160000Z
DTEND:20210317T180000Z
X-MICROSOFT-CDO-ALLDAYEVENT:FALSE
SUMMARY:Starting a Business in Alabama Webinar
DESCRIPTION:This two-hour workshop will provide participants with a comprehensive overview of the steps required and recommended for starting a small business in the State of Alabama. The following topic areas will be covered: a business start-up checklist\; reserving a company name\; pros and cons of optional legal structures\; getting a tax number\; business taxes\; and state and licensing requirements. Furthermore\, this workshop will touch on the importance of resource partners such as business attorneys\, bankers\, outside accountants\, and insurance agents. Participants will also receive various helpful handouts and workshop takeaways
X-ALT-DESC;FMTTYPE=text/html:This two-hour workshop will provide participants with a comprehensive overview of the steps required and recommended for starting a small business in the State of Alabama. The following topic areas will be covered: a business start-up checklist\; reserving a company name\; pros and cons of optional legal structures\; getting a tax number\; business taxes\; and state and licensing requirements. Furthermore\, this workshop will touch on the importance of resource partners such as business attorneys\, bankers\, outside accountants\, and insurance agents. Participants will also receive various helpful handouts and workshop takeaways
LOCATION:Register online at: https://asbdc.ecenterdirect.com/events/8794
UID:e.1304.19349
SEQUENCE:3
DTSTAMP:20260423T204759Z
URL:https://business.eschamber.com/events/details/starting-a-business-in-alabama-webinar-03-17-2021-19349
END:VEVENT

END:VCALENDAR
