BEGIN:VCALENDAR
VERSION:2.0
PRODID:-//ChamberMaster//Event Calendar 2.0//EN
METHOD:PUBLISH
X-PUBLISHED-TTL:P3D
REFRESH-INTERVAL:P3D
CALSCALE:GREGORIAN
BEGIN:VEVENT
DTSTART:20210727T160000Z
DTEND:20210727T180000Z
X-MICROSOFT-CDO-ALLDAYEVENT:FALSE
SUMMARY:Starting a Business in Baldwin County
DESCRIPTION:Starting a business in Baldwin County? Time to turn your hobby into a business? Want to work for yourself? This workshop is for you! Learn how to: Structure a business\; set up a business in Baldwin County\; access financing options. Instructor: Yolanda Devine Johnson\, Business Advisor with the Alabama Small Business Development Center. Social distancing observed\; mask at participants' discretion.
X-ALT-DESC;FMTTYPE=text/html:Starting a business in Baldwin County? Time to turn your hobby into a business? Want to work for yourself? This workshop is for you! Learn how to: Structure a business\; set up a business in Baldwin County\; access financing options. Instructor: Yolanda Devine Johnson\, Business Advisor with the Alabama Small Business Development Center. Social distancing observed\; mask at participants&#39\; discretion.
LOCATION:Foley Library\, 319 E. Laurel Avenue\, Foley\, AL
UID:e.1304.22049
SEQUENCE:3
DTSTAMP:20260420T114640Z
URL:https://business.eschamber.com/events/details/starting-a-business-in-baldwin-county-22049
END:VEVENT

END:VCALENDAR
