BEGIN:VCALENDAR
VERSION:2.0
PRODID:-//ChamberMaster//Event Calendar 2.0//EN
METHOD:PUBLISH
X-PUBLISHED-TTL:P3D
REFRESH-INTERVAL:P3D
CALSCALE:GREGORIAN
BEGIN:VEVENT
DTSTART:20201031T140000Z
DTEND:20201101T230000Z
X-MICROSOFT-CDO-ALLDAYEVENT:FALSE
SUMMARY:Stewart Heath Gallery Fall Art Market
DESCRIPTION:Halloween just became even more fun at Eastern Shore Centre\, and want you to come enjoy! This is a great time to begin stocking up on your holiday gifts at the first ever "Stewart Heath Gallery Fall Art Festival" happening October 31st and November 1st at Eastern Shore Centre in Spanish Fort\, AL. Beginning at Stewart Heath Gallery (northeast end of the Eastern Shore Centre)\, the sidewalks will be lined with Gulf Coast artists and artisans from 9:00am   4:00pm Saturday and 12:00pm   5:00pm Sunday. The event is free to the public both days\, and there will be chances to win exclusive prizes from ESC merchants and handmade pieces by some of our artisan vendors. Merchants will also be offering special event discounts during this weekend. Restaurants at ESC like Newk's Eatery\, Smoothies-N-Things\, Rico Mexican\, California Dreaming\, and Half Shell Oyster House will be open for dine-in. Additionally\, there will be more fun to be had at Tortuga Adventure Golf\, Humdingers VR\, and Premiere Cinema. So bring your friends and family Halloween weekend to purchase great gifts\, have a great meal\, and lots of fun at Stewart Heath Gallery Fall Art Festival!
X-ALT-DESC;FMTTYPE=text/html:Halloween just became even more fun at Eastern Shore Centre\, and want you to come enjoy! This is a great time to begin stocking up on your holiday gifts at the first ever &ldquo\;Stewart Heath Gallery Fall Art Festival&rdquo\; happening October 31st and November 1st at Eastern Shore Centre in Spanish Fort\, AL. Beginning at Stewart Heath Gallery (northeast end of the Eastern Shore Centre)\, the sidewalks will be lined with Gulf Coast artists and artisans from 9:00am &ndash\; 4:00pm Saturday and 12:00pm &ndash\; 5:00pm Sunday. The event is free to the public both days\, and there will be chances to win exclusive prizes from ESC merchants and handmade pieces by some of our artisan vendors. Merchants will also be offering special event discounts during this weekend. Restaurants at ESC like Newk&rsquo\;s Eatery\, Smoothies-N-Things\, Rico Mexican\, California Dreaming\, and Half Shell Oyster House will be open for dine-in. Additionally\, there will be more fun to be had at Tortuga Adventure Golf\, Humdingers VR\, and Premiere Cinema. So bring your friends and family Halloween weekend to purchase great gifts\, have a great meal\, and lots of fun at Stewart Heath Gallery Fall Art Festival!
LOCATION:Eastern Shore Centre\, Spanish Fort\, AL
UID:e.1304.14835
SEQUENCE:3
DTSTAMP:20260424T031852Z
URL:https://business.eschamber.com/events/details/stewart-heath-gallery-fall-art-market-14835
END:VEVENT

END:VCALENDAR
