BEGIN:VCALENDAR
VERSION:2.0
PRODID:-//ChamberMaster//Event Calendar 2.0//EN
METHOD:PUBLISH
X-PUBLISHED-TTL:P3D
REFRESH-INTERVAL:P3D
CALSCALE:GREGORIAN
BEGIN:VEVENT
DTSTART:20201107T150000Z
DTEND:20201107T220000Z
X-MICROSOFT-CDO-ALLDAYEVENT:FALSE
SUMMARY:Stockton Sawmill Days
DESCRIPTION:Come celebrate the early logging and sawmill days of the South on the site of the first sawmill in the State of Alabama! The Stockton Heritage Association\, Inc. is hosting its Annual Stockton Sawmill Days. A professional lumberjack show will take place in the morning and afternoon with log rolling\, speed pole climbing\, cross-cut sawing\, spring board cutting\, hot-sawing\, wood chopping\, ax throwing\, and chainsaw carving. Live music will be performed all day. Exhibitors and folk artists will have booths throughout the park with fun kids' activities.
X-ALT-DESC;FMTTYPE=text/html:Come celebrate the early logging and sawmill days of the South on the site of the first sawmill in the State of Alabama! The Stockton Heritage Association\, Inc. is hosting its Annual Stockton Sawmill Days. A professional lumberjack show will take place in the morning and afternoon with log rolling\, speed pole climbing\, cross-cut sawing\, spring board cutting\, hot-sawing\, wood chopping\, ax throwing\, and chainsaw carving. Live music will be performed all day. Exhibitors and folk artists will have booths throughout the park with fun kids&#39\; activities.
LOCATION:Baldwin County Bicentennial Park\, 51233 State Highway 225 (2 miles north of Interstate 65)\, Stockton\, AL 36579
UID:e.1304.14063
SEQUENCE:3
DTSTAMP:20260424T031923Z
URL:https://business.eschamber.com/events/details/stockton-sawmill-days-11-07-2020-14063
END:VEVENT

END:VCALENDAR
