BEGIN:VCALENDAR
VERSION:2.0
PRODID:-//ChamberMaster//Event Calendar 2.0//EN
METHOD:PUBLISH
X-PUBLISHED-TTL:P3D
REFRESH-INTERVAL:P3D
CALSCALE:GREGORIAN
BEGIN:VEVENT
DTSTART:20201010T150000Z
DTEND:20201010T160000Z
X-MICROSOFT-CDO-ALLDAYEVENT:FALSE
SUMMARY:Stories Among the Stones\, with Tom McGehee
DESCRIPTION:Walter and Bessie Bellingrath rest among some 100\,000 permanent residents of Mobile's historic Magnolia Cemetery\, and the colonnade marking their graves is the largest monument to be found there. Join us for a fascinating look at the cemetery's history and funerary art\, led by Tom McGehee\, Director of the Bellingrath Museum Home\, a member of the cemetery's Board  of Directors\, and a prominent local historian and author.\n\nMagnolia Cemetery is located at 1202 Virginia Street at the corner of Ann and Virginia Streets in Mobile. Parking is available from the main entrance on Ann Street. This event is a fundraiser for the Bellingrath Gardens and Home Foundation. Space is limited. The talk will include refreshments!\n\nTickets are $25 per person or $45 per couple and must be purchased in advance. To order\, please call Angela Strickland\, Director of Special Events\, at 251-459-8868.
X-ALT-DESC;FMTTYPE=text/html:<p>Walter and Bessie Bellingrath rest among some 100\,000 permanent residents of Mobile&rsquo\;s historic Magnolia Cemetery\, and the colonnade marking their graves is the largest monument to be found there. Join us for a fascinating look at the cemetery&rsquo\;s history and funerary art\, led by Tom McGehee\, Director of the Bellingrath Museum Home\, a member of the cemetery&rsquo\;s Board&nbsp\; of Directors\, and a prominent local historian and author.</p>\n\n<p>Magnolia Cemetery is located at 1202 Virginia Street at the corner of Ann and Virginia Streets in Mobile. Parking is available from the main entrance on Ann Street. This event is a fundraiser for the Bellingrath Gardens and Home Foundation. Space is limited. The talk will include refreshments!</p>\n\n<p>Tickets are $25 per person or $45 per couple and must be purchased in advance. To order\, please call Angela Strickland\, Director of Special Events\, at 251-459-8868.</p>\n
LOCATION:Magnolia Cemetery\, 1202 Virginia Street\, corner of Ann and Virginia Streets in Mobile.
UID:e.1304.14362
SEQUENCE:3
DTSTAMP:20260424T044047Z
URL:https://business.eschamber.com/events/details/stories-among-the-stones-with-tom-mcgehee-14362
END:VEVENT

END:VCALENDAR
