BEGIN:VCALENDAR
VERSION:2.0
PRODID:-//ChamberMaster//Event Calendar 2.0//EN
METHOD:PUBLISH
X-PUBLISHED-TTL:P3D
REFRESH-INTERVAL:P3D
CALSCALE:GREGORIAN
BEGIN:VEVENT
DTSTART:20191010T220000Z
DTEND:20191011T010000Z
X-MICROSOFT-CDO-ALLDAYEVENT:FALSE
SUMMARY:Story Telling & Reenactment of the "Removal" of the Baldwin County Seat
DESCRIPTION:Come join Story Tellers Cliff McCollum and Robert "Bob" Wills as they tell about the "removal" of the Baldwin County Seat from Daphne to Bay Minette. Event is hosted by Baldwin County Archives & History\, The City of Bay Minette\, and North Baldwin Chamber of Commerce. Other attractions will be an old fashioned dessert eating contest\, square dancing/yodeling\, blacksmith demonstration\, face painting\, train rides\, and period attire contest. Bring your lawn chairs & straw hats!
X-ALT-DESC;FMTTYPE=text/html:Come join Story Tellers Cliff McCollum and Robert &quot\;Bob&quot\; Wills as they tell about the &quot\;removal&quot\; of the Baldwin County Seat from Daphne to Bay Minette. Event is hosted by Baldwin County Archives &amp\; History\, The City of Bay Minette\, and North Baldwin Chamber of Commerce. Other attractions will be an old fashioned dessert eating contest\, square dancing/yodeling\, blacksmith demonstration\, face painting\, train rides\, and period attire contest. Bring your lawn chairs &amp\; straw hats!
LOCATION:Courthouse Gazebo\, Bay Minette\, AL
UID:e.1304.12893
SEQUENCE:3
DTSTAMP:20260419T155605Z
URL:https://business.eschamber.com/events/details/story-telling-reenactment-of-the-removal-of-the-baldwin-county-seat-12893
END:VEVENT

END:VCALENDAR
