BEGIN:VCALENDAR
VERSION:2.0
PRODID:-//ChamberMaster//Event Calendar 2.0//EN
METHOD:PUBLISH
X-PUBLISHED-TTL:P3D
REFRESH-INTERVAL:P3D
CALSCALE:GREGORIAN
BEGIN:VEVENT
DTSTART:20201205T200000Z
DTEND:20201223T231500Z
X-MICROSOFT-CDO-ALLDAYEVENT:FALSE
SUMMARY:Storytime with Santa’s Elves
DESCRIPTION:Exclusively at Parkside Giftshop\n\nDec. 5-6\,12-13\,19-23\n\n 2PM\, 3PM\, 4PM\, & 5PM\n\nCatch Santa's jolly elves reading classic Christmas stories this December! No admission required. Storytime is approximately 15 minutes.
X-ALT-DESC;FMTTYPE=text/html:<h2 style="text-align:center"><span style="color:rgb(82\, 20\, 67)">Exclusively at Parkside Giftshop</span></h2>\n\n<h4 style="text-align:center"><span style="color:rgb(82\, 20\, 67)">Dec. 5-6\,12-13\,19-23</span></h4>\n\n<h4 style="text-align:center"><span style="color:rgb(82\, 20\, 67)">&nbsp\;2PM\, 3</span><span style="color:rgb(82\, 20\, 67)">PM\,&nbsp\;</span><span style="color:rgb(82\, 20\, 67)">4PM\, &amp\; 5PM</span></h4>\n\n<p style="text-align:center">Catch Santa&rsquo\;s jolly elves reading classic&nbsp\;<a href="https://visitowa.com/explore/christmas-at-owa/" style="box-sizing: border-box\; background-color: transparent\; color: rgb(0\, 178\, 196)\; text-decoration-line: none\; line-height: inherit\; cursor: pointer\;">Christmas</a>&nbsp\;stories this December! No admission required. Storytime is approximately 15 minutes.</p>\n
LOCATION:Exclusively at Parkside Giftshop inside The Park at OWA 1501 S OWA Blvd. Foley\, AL 36535
UID:e.1304.14909
SEQUENCE:3
DTSTAMP:20260424T014834Z
URL:https://business.eschamber.com/events/details/storytime-with-santa-s-elves-14909
END:VEVENT

END:VCALENDAR
