BEGIN:VCALENDAR
VERSION:2.0
PRODID:-//ChamberMaster//Event Calendar 2.0//EN
METHOD:PUBLISH
X-PUBLISHED-TTL:P3D
REFRESH-INTERVAL:P3D
CALSCALE:GREGORIAN
BEGIN:VEVENT
DTSTART:20240728T230000Z
DTEND:20240729T020000Z
X-MICROSOFT-CDO-ALLDAYEVENT:FALSE
SUMMARY:Summer Harvest Chef Dinner
DESCRIPTION:Join us for our exciting Summer Harvest Dinner with Executive Chef\, Adam Stephens. Tickets are limited so purchase yours today! EVENT MENU Course 1 Silver Queen Corn // Chawanmushi / Smoked Sunburst Trout Roe / Pickled Enoki Mushrooms Course 2 Spear Caught Gulf Crudo // Heirloom Tomato Viniagrette / Aji Amarillo / Local Sweet Potato Course 3 Braised Pork Cheek Taco // Peach "Al Pastor" / Serrano / Garden Herbs Course 4 Fried Bob White Quail // Watermelon Hot Sauce / Hush Course 5 Rock Shrimp // Chitarra al Nero / Okra / Blistered Tomato / Yuzu Kosho / Okra Chips Course 6 Sous Vide Lamb Saddle // Pommes Pave / Fermented blueberry moustarda Course 7 Chilton Co. Peaches // Vanilla and Licorice Root Soda / Peach Ice Cream / Anise Hyssop Ticket Price: $150 Limited Availability *Tax and Gratuity Included. Not Including Pairings Tickets are non-refundable.
X-ALT-DESC;FMTTYPE=text/html:Join us for our exciting Summer Harvest Dinner with Executive Chef\, Adam Stephens. Tickets are limited so purchase yours today! EVENT MENU Course 1 Silver Queen Corn // Chawanmushi / Smoked Sunburst Trout Roe / Pickled Enoki Mushrooms Course 2 Spear Caught Gulf Crudo // Heirloom Tomato Viniagrette / Aji Amarillo / Local Sweet Potato Course 3 Braised Pork Cheek Taco // Peach &ldquo\;Al Pastor&rdquo\; / Serrano / Garden Herbs Course 4 Fried Bob White Quail // Watermelon Hot Sauce / Hush Course 5 Rock Shrimp // Chitarra al Nero / Okra / Blistered Tomato / Yuzu Kosho / Okra Chips Course 6 Sous Vide Lamb Saddle // Pommes Pave / Fermented blueberry moustarda Course 7 Chilton Co. Peaches // Vanilla and Licorice Root Soda / Peach Ice Cream / Anise Hyssop Ticket Price: $150 Limited Availability *Tax and Gratuity Included. Not Including Pairings Tickets are non-refundable.
LOCATION:The Barn at The Hope Farm
UID:e.1304.32075
SEQUENCE:3
DTSTAMP:20260419T190944Z
URL:https://business.eschamber.com/events/details/summer-harvest-chef-dinner-32075
END:VEVENT

END:VCALENDAR
