BEGIN:VCALENDAR
VERSION:2.0
PRODID:-//ChamberMaster//Event Calendar 2.0//EN
METHOD:PUBLISH
X-PUBLISHED-TTL:P3D
REFRESH-INTERVAL:P3D
CALSCALE:GREGORIAN
BEGIN:VEVENT
DTSTART:20210701T210000Z
DTEND:20210701T231500Z
X-MICROSOFT-CDO-ALLDAYEVENT:FALSE
SUMMARY:Summer Strings in Fairhope
DESCRIPTION:Join us for violin\, viola\, cello and string bass rehearsals at St. Lawrence Parish in Fairhope. This class if for any string student in elementary or middle school with one or more years of experience playing an instrument. Note reading required. Music will be provided in advance.
X-ALT-DESC;FMTTYPE=text/html:Join us for violin\, viola\, cello and string bass rehearsals at St. Lawrence Parish in Fairhope. This class if for any string student in elementary or middle school with one or more years of experience playing an instrument. Note reading required. Music will be provided in advance.
LOCATION:St. Lawrence Parish\, Fairhope
UID:e.1304.20606
SEQUENCE:3
DTSTAMP:20260420T114149Z
URL:https://business.eschamber.com/events/details/summer-strings-in-fairhope-07-01-2021-20606
END:VEVENT

END:VCALENDAR
