BEGIN:VCALENDAR
VERSION:2.0
PRODID:-//ChamberMaster//Event Calendar 2.0//EN
METHOD:PUBLISH
X-PUBLISHED-TTL:P3D
REFRESH-INTERVAL:P3D
CALSCALE:GREGORIAN
BEGIN:VEVENT
DTSTART:20240714T230000Z
DTEND:20240715T020000Z
X-MICROSOFT-CDO-ALLDAYEVENT:FALSE
SUMMARY:Sunday Supper Series: American as Apple Pie
DESCRIPTION:Join us for a Classic American Cookout Fare in celebration of Independence Day! For July's Sunday Supper\, enjoy a curated menu by our Executive Chef\, Adam Stephens. Seating is limited so don't wait\, make your reservation today! Dinner Menu Appetizer Mini Grilled Cheese // Aged White Cheddar / Spiced Tomato Jam "Tater Tots" // Beef Tartare / Charred Shallot Aioli / Cured Egg Yolk "Fried Chicken" // Country Fried Chicken Lollipops Main Features Oklahoma Onion Burger / Shaved Onion / American Cheese Coney Island Dog // All Beef Chili / Chopped Onion / Yellow Mustard BBQ Spare Ribs // Steens BBQ Sauce Sides Mac and Cheese // White Cheddar / Neuskis bacon / Scallion Cole Slaw // Dukes Mayo Watermelon Salad // Jalapeno / Sweet Corn Viniagrette Dessert Apple Pie // Bourbon Ice Cream
X-ALT-DESC;FMTTYPE=text/html:Join us for a Classic American Cookout Fare in celebration of Independence Day! For July&rsquo\;s Sunday Supper\, enjoy a curated menu by our Executive Chef\, Adam Stephens. Seating is limited so don&rsquo\;t wait\, make your reservation today! Dinner Menu Appetizer Mini Grilled Cheese // Aged White Cheddar / Spiced Tomato Jam &ldquo\;Tater Tots&rdquo\; // Beef Tartare / Charred Shallot Aioli / Cured Egg Yolk &ldquo\;Fried Chicken&rdquo\; // Country Fried Chicken Lollipops Main Features Oklahoma Onion Burger / Shaved Onion / American Cheese Coney Island Dog // All Beef Chili / Chopped Onion / Yellow Mustard BBQ Spare Ribs // Steens BBQ Sauce Sides Mac and Cheese // White Cheddar / Neuskis bacon / Scallion Cole Slaw // Dukes Mayo Watermelon Salad // Jalapeno / Sweet Corn Viniagrette Dessert Apple Pie // Bourbon Ice Cream
LOCATION:The Barn at The Hope Farm
UID:e.1304.32073
SEQUENCE:3
DTSTAMP:20260419T192925Z
URL:https://business.eschamber.com/events/details/sunday-supper-series-american-as-apple-pie-32073
END:VEVENT

END:VCALENDAR
