BEGIN:VCALENDAR
VERSION:2.0
PRODID:-//ChamberMaster//Event Calendar 2.0//EN
METHOD:PUBLISH
X-PUBLISHED-TTL:P3D
REFRESH-INTERVAL:P3D
CALSCALE:GREGORIAN
BEGIN:VEVENT
DTSTART:20210404T120000Z
DTEND:20210404T150000Z
X-MICROSOFT-CDO-ALLDAYEVENT:FALSE
SUMMARY:Sunrise Island Easter Service
DESCRIPTION:
X-ALT-DESC;FMTTYPE=text/html:
LOCATION:Downtown OWA Foley\,AL
UID:e.1304.17694
SEQUENCE:3
DTSTAMP:20260423T192625Z
URL:https://business.eschamber.com/events/details/sunrise-island-easter-service-17694
END:VEVENT

END:VCALENDAR
