BEGIN:VCALENDAR
VERSION:2.0
PRODID:-//ChamberMaster//Event Calendar 2.0//EN
METHOD:PUBLISH
X-PUBLISHED-TTL:P3D
REFRESH-INTERVAL:P3D
CALSCALE:GREGORIAN
BEGIN:VEVENT
DTSTART:20210319T233000Z
DTEND:20210320T003000Z
X-MICROSOFT-CDO-ALLDAYEVENT:FALSE
SUMMARY:Sunset Cruise from Five Rivers
DESCRIPTION:Winter sunsets on Mobile Bay are some of the most brilliant and colorful of the year. Come along on a brief relaxing voyage departing from the Bartram Landing at Five Rivers Delta Resource Center as we experience nature's splendor and be back in time to grab a seafood dinner on the Causeway!
X-ALT-DESC;FMTTYPE=text/html:Winter sunsets on Mobile Bay are some of the most brilliant and colorful of the year. Come along on a brief relaxing voyage departing from the Bartram Landing at Five Rivers Delta Resource Center as we experience nature&#39\;s splendor and be back in time to grab a seafood dinner on the Causeway!
LOCATION:Bartram Landing at Five Rivers Delta Resource Center
UID:e.1304.20466
SEQUENCE:3
DTSTAMP:20260423T204404Z
URL:https://business.eschamber.com/events/details/sunset-cruise-from-five-rivers-20466
END:VEVENT

END:VCALENDAR
