BEGIN:VCALENDAR
VERSION:2.0
PRODID:-//ChamberMaster//Event Calendar 2.0//EN
METHOD:PUBLISH
X-PUBLISHED-TTL:P3D
REFRESH-INTERVAL:P3D
CALSCALE:GREGORIAN
BEGIN:VEVENT
DTSTART:20201212T160000Z
DTEND:20201213T000000Z
X-MICROSOFT-CDO-ALLDAYEVENT:FALSE
SUMMARY:Support Local Christmas Market
DESCRIPTION:Supporting local is important now more than ever during this unprecedented time. So in an effort to support local\, Eastern Shore Centre is pleased to present the first of many Support Local Markets. We are kicking off our seasonal markets with the Support Local Christmas Market on December 12\, 2020 from 10:00am - 6:00pm. Local artisan vendors will be set up around the Christmas tree at the heart of the Centre between Half Shell Oyster House and California Dreaming. There will be baked goods\, homemade herbs and spices\, jams\, door hangers\, bath and body essentials\, Christmas decor\, head pieces\, cutting boards\, jewelry\, and so much more! We will also have Santa Claus on the stage taking pictures\, and the Irish Step Dancers will be performing at 2:00pm. Bring your family and support local!
X-ALT-DESC;FMTTYPE=text/html:Supporting local is important now more than ever during this unprecedented time. So in an effort to support local\, Eastern Shore Centre is pleased to present the first of many Support Local Markets. We are kicking off our seasonal markets with the Support Local Christmas Market on December 12\, 2020 from 10:00am - 6:00pm. Local artisan vendors will be set up around the Christmas tree at the heart of the Centre between Half Shell Oyster House and California Dreaming. There will be baked goods\, homemade herbs and spices\, jams\, door hangers\, bath and body essentials\, Christmas decor\, head pieces\, cutting boards\, jewelry\, and so much more! We will also have Santa Claus on the stage taking pictures\, and the Irish Step Dancers will be performing at 2:00pm. Bring your family and support local!
LOCATION:ESC Pavilion around the Christmas Tree
UID:e.1304.14930
SEQUENCE:3
DTSTAMP:20260424T014735Z
URL:https://business.eschamber.com/events/details/support-local-christmas-market-14930
END:VEVENT

END:VCALENDAR
