BEGIN:VCALENDAR
VERSION:2.0
PRODID:-//ChamberMaster//Event Calendar 2.0//EN
METHOD:PUBLISH
X-PUBLISHED-TTL:P3D
REFRESH-INTERVAL:P3D
CALSCALE:GREGORIAN
BEGIN:VEVENT
DTSTART:20201009T180000Z
DTEND:20201010T010000Z
X-MICROSOFT-CDO-ALLDAYEVENT:FALSE
SUMMARY:Tee Time for Autism Golf Tournament
DESCRIPTION:Fundraiser sponsored by the American Autism & Rehabilitation Foundation to raise awareness and needed funds supporting the therapeutic services and sensory-friendly programs provided by the American Autism & Rehabilitation Center. Resources and services are available to our local special needs community.
X-ALT-DESC;FMTTYPE=text/html:Fundraiser sponsored by the American Autism &amp\; Rehabilitation Foundation to raise awareness and needed funds supporting the therapeutic services and sensory-friendly programs provided by the American Autism &amp\; Rehabilitation Center. Resources and services are available to our local special needs community.
LOCATION:Rock Creek Golf Club 140 Rock Creek Drive Fairhope\, AL 36532
UID:e.1304.14301
SEQUENCE:3
DTSTAMP:20260424T044024Z
URL:https://business.eschamber.com/events/details/tee-time-for-autism-golf-tournament-14301
END:VEVENT

END:VCALENDAR
