BEGIN:VCALENDAR
VERSION:2.0
PRODID:-//ChamberMaster//Event Calendar 2.0//EN
METHOD:PUBLISH
X-PUBLISHED-TTL:P3D
REFRESH-INTERVAL:P3D
CALSCALE:GREGORIAN
BEGIN:VEVENT
DTSTART:20231116T230000Z
DTEND:20231117T010000Z
X-MICROSOFT-CDO-ALLDAYEVENT:FALSE
SUMMARY:The Art of Mixology - Scotch: The Water of Life
DESCRIPTION:For our November class\, our curators Raleigh Swan and Lane Ezell will be guiding the class through the world of Scotch. From Speyside and the Highlands to Islay and the peat bombs\, Scotch is more versatile than you might think. For the first time ever in The Barn\, we'll be tasting through different Scotch expressions and trying a few Scotch-based cocktails!\n\no   What's Included?\n\n\n	\n	allocated sips of some delicious Scotch\n	\n	\n	Handmade cocktails.\n	\n	\n	Immersive guest bartending with our Lead Bartender\, Lane Ezell.\n	\n	\n	Small Dinner prepared by our executive chef\, Adam Stephens
X-ALT-DESC;FMTTYPE=text/html:<p>For our November class\, our curators Raleigh Swan and Lane Ezell will be guiding the class through the world of Scotch. From Speyside and the Highlands to Islay and the peat bombs\, Scotch is more versatile than you might think. For the first time ever in The Barn\, we&rsquo\;ll be tasting through different Scotch expressions and trying a few Scotch-based cocktails!</p>\n\n<p>o&nbsp\;&nbsp\;&nbsp\;<strong>What&rsquo\;s Included?</strong></p>\n\n<ol>\n	<li>\n	<p>allocated sips of some delicious Scotch</p>\n	</li>\n	<li>\n	<p>Handmade cocktails.</p>\n	</li>\n	<li>\n	<p>Immersive guest bartending with our Lead Bartender\, Lane Ezell.</p>\n	</li>\n	<li>\n	<p>Small Dinner prepared by our executive chef\, Adam Stephens</p>\n	</li>\n</ol>\n
LOCATION:The Barn at The Hope Farm
UID:e.1304.28119
SEQUENCE:3
DTSTAMP:20260426T035335Z
URL:https://business.eschamber.com/events/details/the-art-of-mixology-scotch-the-water-of-life-28119
END:VEVENT

END:VCALENDAR
