BEGIN:VCALENDAR
VERSION:2.0
PRODID:-//ChamberMaster//Event Calendar 2.0//EN
METHOD:PUBLISH
X-PUBLISHED-TTL:P3D
REFRESH-INTERVAL:P3D
CALSCALE:GREGORIAN
BEGIN:VEVENT
DTSTART:20210425T190000Z
DTEND:20210425T210000Z
X-MICROSOFT-CDO-ALLDAYEVENT:FALSE
SUMMARY:The Baller Dream Foundation Fundraiser
DESCRIPTION:This fundraising event will be at Hope Farm in Fairhope. Spend the afternoon honoring Mobile Bay resident Ann Schilling. Ann is an iconic volleyball coach at Bayside Academy and stage IV breast cancer survivor. For more about the event and Coach Ann\, visit https://ballerdream.org/alabama.
X-ALT-DESC;FMTTYPE=text/html:This fundraising event will be at Hope Farm in Fairhope. Spend the afternoon honoring Mobile Bay resident Ann Schilling. Ann is an iconic volleyball coach at Bayside Academy and stage IV breast cancer survivor. For more about the event and Coach Ann\, visit https://ballerdream.org/alabama.
LOCATION:Hope Farm- 915 Nichols Avenue Fairhope\, Alabama 36532
UID:e.1304.20578
SEQUENCE:3
DTSTAMP:20260423T205448Z
URL:https://business.eschamber.com/events/details/the-baller-dream-foundation-fundraiser-20578
END:VEVENT

END:VCALENDAR
