BEGIN:VCALENDAR
VERSION:2.0
PRODID:-//ChamberMaster//Event Calendar 2.0//EN
METHOD:PUBLISH
X-PUBLISHED-TTL:P3D
REFRESH-INTERVAL:P3D
CALSCALE:GREGORIAN
BEGIN:VEVENT
DTSTART:20240728T003000Z
DTEND:20240728T030000Z
X-MICROSOFT-CDO-ALLDAYEVENT:FALSE
SUMMARY:The Evolution of Aretha: A Soulville Tribute to the Queen
DESCRIPTION:Join us for a soulful evening as we celebrate the legendary Aretha Franklin with "The Evolution of Aretha: A Soulville Tribute to the Queen" on July 27th at 7:30 PM. Immerse yourself in a powerful performance as we pays homage to Aretha's iconic hits and remarkable legacy. Feel the magic of her music come alive through the internationally captivating voice as the soulful diva takes center stage. Don't miss this unforgettable tribute to the Queen of Soul that promises to leave you uplifted and inspired!\n\n\n\nLearn more here: https://visitowa.com/aretha-tribute/.
X-ALT-DESC;FMTTYPE=text/html:<span style="color:#333333">Join us for a soulful evening as we celebrate the legendary Aretha Franklin with &quot\;The Evolution of Aretha: A Soulville Tribute to the Queen&quot\; on July 27th at 7:30 PM. Immerse yourself in a powerful performance as we pays homage to Aretha&#39\;s iconic hits and remarkable legacy. Feel the magic of her music come alive through the internationally captivating voice as the soulful diva takes center stage. Don&#39\;t miss this unforgettable tribute to the Queen of Soul that promises to leave you uplifted and inspired!<br />\n<br />\nLearn more here:&nbsp\;</span><span style="color:#333333"><span style="font-family:arial\,sans-serif"><span style="font-size:10.0pt">https://visitowa.com/aretha-tribute/.&nbsp\;</span></span></span><br />\n<br />\n&nbsp\;
LOCATION:OWA Theater
UID:e.1304.32069
SEQUENCE:3
DTSTAMP:20260419T191342Z
URL:https://business.eschamber.com/events/details/the-evolution-of-aretha-a-soulville-tribute-to-the-queen-32069
END:VEVENT

END:VCALENDAR
