BEGIN:VCALENDAR
VERSION:2.0
PRODID:-//ChamberMaster//Event Calendar 2.0//EN
METHOD:PUBLISH
X-PUBLISHED-TTL:P3D
REFRESH-INTERVAL:P3D
CALSCALE:GREGORIAN
BEGIN:VEVENT
DTSTART:20210522T120000Z
DTEND:20210522T160000Z
X-MICROSOFT-CDO-ALLDAYEVENT:FALSE
SUMMARY:The Grandman Triathlon
DESCRIPTION:Swim 1/3-Mile - Racers begin the race by jumping off of Fairhope Pier and swimming 1/3-mile in Mobile Bay to the shore. Racers exit the water\, run up a ladder\, and head to the transition area. Bike 18.6 Miles - Following the swim\, racers bike 18.6 miles through the charming city of Fairhope\, beginning up a steep hill before riding through miles of rolling countryside and along Mobile Bay. Run 3.1 Miles - After the bike\, racers complete a 3.1 mile run through the streets of downtown Fairhope before finishing alongside Mobile Bay. Racers cross the finish line at Fairhope Park.
X-ALT-DESC;FMTTYPE=text/html:Swim 1/3-Mile - Racers begin the race by jumping off of Fairhope Pier and swimming 1/3-mile in Mobile Bay to the shore. Racers exit the water\, run up a ladder\, and head to the transition area. Bike 18.6 Miles - Following the swim\, racers bike 18.6 miles through the charming city of Fairhope\, beginning up a steep hill before riding through miles of rolling countryside and along Mobile Bay. Run 3.1 Miles - After the bike\, racers complete a 3.1 mile run through the streets of downtown Fairhope before finishing alongside Mobile Bay. Racers cross the finish line at Fairhope Park.
LOCATION:Fairhope Pier
UID:e.1304.20463
SEQUENCE:3
DTSTAMP:20260423T175045Z
URL:https://business.eschamber.com/events/details/the-grandman-triathlon-20463
END:VEVENT

END:VCALENDAR
