BEGIN:VCALENDAR
VERSION:2.0
PRODID:-//ChamberMaster//Event Calendar 2.0//EN
METHOD:PUBLISH
X-PUBLISHED-TTL:P3D
REFRESH-INTERVAL:P3D
CALSCALE:GREGORIAN
BEGIN:VEVENT
DTSTART:20230829T230000Z
DTEND:20230830T020000Z
X-MICROSOFT-CDO-ALLDAYEVENT:FALSE
SUMMARY:The Hope Farm - Braided River Beer Dinner
DESCRIPTION:The Hope Farm is pairing up with Braided River Brewing Company out of Mobile to bring guests a collaborative beer dinner experience in The Barn. Guests will have the opportunity to taste five different beers\, infused with herbs and mushrooms grown on site\, paired with delicious small plates by our Executive Chef\, Adam Stephens. We're very excited for this local event and the ability to showcase some of Braided River's classic brews with a twist.  Featured Brews: Summer Crush Hang Loose Del Golfo Blood Orange Dreamsicle Coastal Stout
X-ALT-DESC;FMTTYPE=text/html:The Hope Farm is pairing up with Braided River Brewing Company out of Mobile to bring guests a collaborative beer dinner experience in The Barn. Guests will have the opportunity to taste five different beers\, infused with herbs and mushrooms grown on site\, paired with delicious small plates by our Executive Chef\, Adam Stephens. We&rsquo\;re very excited for this local event and the ability to showcase some of Braided River&rsquo\;s classic brews&nbsp\;with a twist.&nbsp\; Featured Brews: Summer Crush Hang Loose Del Golfo Blood Orange Dreamsicle Coastal Stout
LOCATION:The Barn at The Hope Farm 915 Nichols Avenue Fairhope\, Alabama 36532
UID:e.1304.27982
SEQUENCE:3
DTSTAMP:20260420T035139Z
URL:https://business.eschamber.com/events/details/the-hope-farm-braided-river-beer-dinner-27982
END:VEVENT

END:VCALENDAR
