BEGIN:VCALENDAR
VERSION:2.0
PRODID:-//ChamberMaster//Event Calendar 2.0//EN
METHOD:PUBLISH
X-PUBLISHED-TTL:P3D
REFRESH-INTERVAL:P3D
CALSCALE:GREGORIAN
BEGIN:VEVENT
DTSTART:20230819T000000Z
DTEND:20230820T010000Z
X-MICROSOFT-CDO-ALLDAYEVENT:FALSE
SUMMARY:The Neon Queen – A Tribute to ABBA
DESCRIPTION:Get ready to relive the magic of ABBA with "The Neon Queen - A Tribute to ABBA" live at the OWA Theater August 18 & 19 at 7 PM. Immerse yourself in an unforgettable evening of timeless hits\, vibrant spirits and an electrifying performance\, as this sensational tribute act brings the spirit of ABBA back to life.\n\n The Neon Queen faithfully recreates the iconic sound and stage presence of the legendary Swedish pop group\, ABBA. This high-energy musical journey will transport you back to the '70s\, capturing the essence of ABBA's chart-topping songs that continue to captivate audiences worldwide.\n\nFeaturing an exceptional cast of talented performers\, The Neon Queen delivers a visually stunning spectacle\, complete with dazzling lights\, captivating choreography\, and the infectious spirit of ABBA's music. Sing along to all your favorite ABBA classics\, including "Dancing Queen\," "Mamma Mia\," "Waterloo\," "Take a Chance on Me\," and many more. Woven throughout the show\, you will also experience musical mashups featuring other music icons like Madonna\, Britney Spears\, Donna Summer\, and even Dolly Parton.\n\nWhether you're a die-hard ABBA fan or simply looking for an incredible night of entertainment\, The Neon Queen is guaranteed to have you dancing in the aisles. This thrilling tribute experience promises an unforgettable journey through the timeless melodies and infectious beats that made ABBA one of the greatest pop acts of all time.\n\nDon't miss your chance to experience the magic of ABBA once again. Gather your friends and family\, put on your dancing shoes\, and join us at the OWA Theater on August 18 and 19 at 7:00 PM for The Neon Queen - A Tribute to ABBA.\n\nPurchase your tickets today!
X-ALT-DESC;FMTTYPE=text/html:Get ready to relive the magic of ABBA with &quot\;The Neon Queen - A Tribute to ABBA&quot\; live at the OWA Theater August 18 &amp\; 19 at 7 PM. Immerse yourself in an unforgettable evening of timeless hits\, vibrant spirits and an electrifying performance\, as this sensational tribute act brings the spirit of ABBA back to life.<br />\n&nbsp\;The Neon Queen faithfully recreates the iconic sound and stage presence of the legendary Swedish pop group\, ABBA. This high-energy musical journey will transport you back to the &#39\;70s\, capturing the essence of ABBA&#39\;s chart-topping songs that continue to captivate audiences worldwide.<br />\nFeaturing an exceptional cast of talented performers\, The Neon Queen delivers a visually stunning spectacle\, complete with dazzling lights\, captivating choreography\, and the infectious spirit of ABBA&#39\;s music. Sing along to all your favorite ABBA classics\, including &quot\;Dancing Queen\,&quot\; &quot\;Mamma Mia\,&quot\; &quot\;Waterloo\,&quot\; &quot\;Take a Chance on Me\,&quot\; and many more. Woven throughout the show\, you will also experience musical mashups featuring other music icons like Madonna\, Britney Spears\, Donna Summer\, and even Dolly Parton.<br />\nWhether you&#39\;re a die-hard ABBA fan or simply looking for an incredible night of entertainment\, The Neon Queen is guaranteed to have you dancing in the aisles. This thrilling tribute experience promises an unforgettable journey through the timeless melodies and infectious beats that made ABBA one of the greatest pop acts of all time.<br />\nDon&#39\;t miss your chance to experience the magic of ABBA once again. Gather your friends and family\, put on your dancing shoes\, and join us at the OWA Theater on August 18 and 19 at 7:00 PM for The Neon Queen - A Tribute to ABBA.<br />\n<span style="font-family:calibri\,sans-serif"><span style="font-size:11.0pt">Purchase your tickets today!</span></span>
LOCATION:OWA Theater
UID:e.1304.27727
SEQUENCE:3
DTSTAMP:20260420T020817Z
URL:https://business.eschamber.com/events/details/the-neon-queen-a-tribute-to-abba-27727
END:VEVENT

END:VCALENDAR
