BEGIN:VCALENDAR
VERSION:2.0
PRODID:-//ChamberMaster//Event Calendar 2.0//EN
METHOD:PUBLISH
X-PUBLISHED-TTL:P3D
REFRESH-INTERVAL:P3D
CALSCALE:GREGORIAN
BEGIN:VEVENT
DTSTART:20230830T140000Z
DTEND:20230830T150000Z
X-MICROSOFT-CDO-ALLDAYEVENT:FALSE
SUMMARY:The Retreat Bird Sanctuary Ribbon Cutting
DESCRIPTION:Retreat Hospice by Saad will have a ribbon cutting ceremony to celebrate the new bird sanctuary and community garden created by The Home Depot Foundation for local palliative and hospice patients. Team Depot\, The Home Depot's associate-led volunteer force\, completed a one of a kind in the southeast\, bird sanctuary and butterfly garden for hospice patients and their loved ones. Volunteers installed unique birdhouses\, bird baths\, added plants and flowers to attract birds and butterflies across a hidden10 acre garden and outside each of the 24 private patient guest porches. In addition\, a new wheelchair accessible walking path and new benches were installed.
X-ALT-DESC;FMTTYPE=text/html:Retreat Hospice by Saad will have a ribbon cutting ceremony to celebrate the new bird sanctuary and community garden created by The Home Depot Foundation for local palliative and hospice patients. Team Depot\, The Home Depot&rsquo\;s associate-led volunteer force\, completed a one of a kind in the southeast\, bird sanctuary and butterfly garden for hospice patients and their loved ones. Volunteers installed unique birdhouses\, bird baths\, added plants and flowers to attract birds and butterflies across a hidden10 acre garden and outside each of the 24 private patient guest porches. In addition\, a new wheelchair accessible walking path and new benches were installed.
LOCATION:1515B University Blvd Mobile Al 36609
UID:e.1304.28014
SEQUENCE:3
DTSTAMP:20260420T020830Z
URL:https://business.eschamber.com/events/details/the-retreat-bird-sanctuary-ribbon-cutting-28014
END:VEVENT

END:VCALENDAR
