BEGIN:VCALENDAR
VERSION:2.0
PRODID:-//ChamberMaster//Event Calendar 2.0//EN
METHOD:PUBLISH
X-PUBLISHED-TTL:P3D
REFRESH-INTERVAL:P3D
CALSCALE:GREGORIAN
BEGIN:VEVENT
DTSTART:20191106T000000Z
DTEND:20191106T023000Z
X-MICROSOFT-CDO-ALLDAYEVENT:FALSE
SUMMARY:The River and the Wall
DESCRIPTION:The Mobile Bay Sierra Club presents the screening of "The River and the Wall" which follows 5 friends on an immersive adventure through the unknown wilds of the Texas borderlands as they travel 1200 miles from El Paso to the Gulf of Mexico on horses\, mountain bikes and canoes.
X-ALT-DESC;FMTTYPE=text/html:The Mobile Bay Sierra Club presents the screening of &quot\;The River and the Wall&quot\; which follows 5 friends on an immersive adventure through the unknown wilds of the Texas borderlands as they travel 1200 miles from El Paso to the Gulf of Mexico on horses\, mountain bikes and canoes.
LOCATION:5 Rivers\, Tensaw Theater\, 30945 Five Rivers Blvd.\, Spanish Fort\, AL (follow the Sierra Club signs)
UID:e.1304.13108
SEQUENCE:3
DTSTAMP:20260419T141838Z
URL:https://business.eschamber.com/events/details/the-river-and-the-wall-13108
END:VEVENT

END:VCALENDAR
