BEGIN:VCALENDAR
VERSION:2.0
PRODID:-//ChamberMaster//Event Calendar 2.0//EN
METHOD:PUBLISH
X-PUBLISHED-TTL:P3D
REFRESH-INTERVAL:P3D
CALSCALE:GREGORIAN
BEGIN:VEVENT
DTSTART:20201219T233000Z
DTEND:20201220T003000Z
X-MICROSOFT-CDO-ALLDAYEVENT:FALSE
SUMMARY:Timeless Christmas Joy - Chamber Orchestra Concert at Oakleigh House
DESCRIPTION:History will come alive when you experience Christmas past at the Oakleigh House in all of its Southern hospitality and charm! Join Atkinson Chamber Orchestra in a musical celebration of the season through waltzes\, carols\, Nutcracker\, fiddle/folk music and more! Fun for the whole family\, free admission\, outdoor event\, please bring seating.
X-ALT-DESC;FMTTYPE=text/html:History will come alive when you experience Christmas past at the Oakleigh House in all of its Southern hospitality and charm! Join Atkinson Chamber Orchestra in a musical celebration of the season through waltzes\, carols\, Nutcracker\, fiddle/folk music and more! Fun for the whole family\, free admission\, outdoor event\, please bring seating.
LOCATION:Historic Oakleigh House
UID:e.1304.14933
SEQUENCE:3
DTSTAMP:20260424T015153Z
URL:https://business.eschamber.com/events/details/timeless-christmas-joy-chamber-orchestra-concert-at-oakleigh-house-14933
END:VEVENT

END:VCALENDAR
